BEGIN:VCALENDAR
VERSION:2.0
PRODID:-//https://www.resortbousset.com - ECPv5.1.6//NONSGML v1.0//EN
CALSCALE:GREGORIAN
METHOD:PUBLISH
X-WR-CALNAME:https://www.resortbousset.com
X-ORIGINAL-URL:https://www.resortbousset.com
X-WR-CALDESC:Events for https://www.resortbousset.com
BEGIN:VTIMEZONE
TZID:Europe/Amsterdam
BEGIN:DAYLIGHT
TZOFFSETFROM:+0100
TZOFFSETTO:+0200
TZNAME:CEST
DTSTART:20240331T010000
END:DAYLIGHT
BEGIN:STANDARD
TZOFFSETFROM:+0200
TZOFFSETTO:+0100
TZNAME:CET
DTSTART:20241027T010000
END:STANDARD
END:VTIMEZONE
BEGIN:VEVENT
DTSTART;TZID=Europe/Amsterdam:20240702T180000
DTEND;TZID=Europe/Amsterdam:20240702T210000
DTSTAMP:20260421T063106
CREATED:20240628T194053Z
LAST-MODIFIED:20240628T194053Z
UID:2719-1719943200-1719954000@www.resortbousset.com
SUMMARY:NEDERLAND - ROEMENIË  LIVE EK VOETBAL 18:00 GROOT SCHERM
DESCRIPTION:LIVE EK VOETBAL 18:00\n1/8 FINALE\nNEDERLAND – ROEMENIË\n@ Resort Bousset \nChemin de Bousset \n58170 Chiddes \nNederland – Roemenië EK 02-07-24 – 18:00 hr.
URL:https://www.resortbousset.com/event/nederland-roemenie-live-ek-voetbal-1800-groot-scherm/
ATTACH;FMTTYPE=image/jpeg:https://www.resortbousset.com/wp-content/uploads/2024/06/Nederland-Roemenie-EK-02-07-24.jpg
END:VEVENT
BEGIN:VEVENT
DTSTART;TZID=Europe/Amsterdam:20240706T210000
DTEND;TZID=Europe/Amsterdam:20240706T230000
DTSTAMP:20260421T063106
CREATED:20240705T201229Z
LAST-MODIFIED:20240705T201229Z
UID:2743-1720299600-1720306800@www.resortbousset.com
SUMMARY:Live Voetbal EK 2024 - Nederland - Turkije - Zaterdag 6 juli  21:00
DESCRIPTION:Live Voetbal EK 2024 – Nederland – Turkije – Zaterdag 6 juli 21:00 Groot Scherm!\n@ Resort Bousset \nChemin de Bousset \n58170 Chiddes
URL:https://www.resortbousset.com/event/live-voetbal-ek-2024-nederland-turkije-zaterdag-6-juli-2100/
ATTACH;FMTTYPE=image/jpeg:https://www.resortbousset.com/wp-content/uploads/2024/07/Nederland-Turkije-kwartfinale-2024.jpg
END:VEVENT
BEGIN:VEVENT
DTSTART;TZID=Europe/Amsterdam:20240710T080000
DTEND;TZID=Europe/Amsterdam:20240710T170000
DTSTAMP:20260421T063106
CREATED:20240710T102020Z
LAST-MODIFIED:20240710T102020Z
UID:2748-1720598400-1720630800@www.resortbousset.com
SUMMARY:LIVE VOETBAL * NEDERLAND - ENGELAND * EK 2024 RESORT BOUSSET 10-07-24 * 21:00
DESCRIPTION:LIVE VOETBAL \nHALVE FINALE!\nNEDERLAND – ENGELAND \nEK 2024  \nWoensdag 10 Juli 2024 OM 21:00 UUR!\n@ Resort Bousset\nChemin de Bousset\n58170 CHIDDES\nNederland – Engeland EK 2024
URL:https://www.resortbousset.com/event/live-voetbal-nederland-engeland-ek-2024-resort-bousset-10-07-24-2100/
ATTACH;FMTTYPE=image/jpeg:https://www.resortbousset.com/wp-content/uploads/2024/07/Nederland-Engeland-EK-2024.jpg
END:VEVENT
END:VCALENDAR