BEGIN:VCALENDAR
VERSION:2.0
PRODID:-//https://www.resortbousset.com - ECPv5.1.6//NONSGML v1.0//EN
CALSCALE:GREGORIAN
METHOD:PUBLISH
X-WR-CALNAME:https://www.resortbousset.com
X-ORIGINAL-URL:https://www.resortbousset.com
X-WR-CALDESC:Events for https://www.resortbousset.com
BEGIN:VTIMEZONE
TZID:Europe/Amsterdam
BEGIN:DAYLIGHT
TZOFFSETFROM:+0100
TZOFFSETTO:+0200
TZNAME:CEST
DTSTART:20220327T010000
END:DAYLIGHT
BEGIN:STANDARD
TZOFFSETFROM:+0200
TZOFFSETTO:+0100
TZNAME:CET
DTSTART:20221030T010000
END:STANDARD
END:VTIMEZONE
BEGIN:VEVENT
DTSTART;TZID=Europe/Amsterdam:20220811T190000
DTEND;TZID=Europe/Amsterdam:20220811T233000
DTSTAMP:20260422T134439
CREATED:20220519T120042Z
LAST-MODIFIED:20220812T152935Z
UID:1224-1660244400-1660260600@www.resortbousset.com
SUMMARY:Barbecue Buffet
DESCRIPTION:NEDERLANDS \nDonderdag 11 Augustus BBQ Avond! \nHet is weer zo ver! Camping Resort Bousset organiseert regelmatig Barbecue avonden. Dus houd de Events pagina in de gaten! \nVoorheen waren deze avonden op maandag en woensdag. Het is nu zo dat wij deze avonden vooraf gaan aankondigen op de Events pagina. \nBBQ Volwassenen € 25\,00 PP\nBBQ Kids 5 t/m 12 jaar € 12\,50 PP \nTot 11 Augustus 14:00 kunt u reserveren! Reserveren via telefoonnummer : +31 6 150 34 190 \nENGLISH \nThursday\, August 11 BBQ Evening! \nThe time has come again! Camping Resort Bousset regularly organises Barbecue evenings. So keep an eye on the Events page! \nPreviously\, these evenings were on Mondays and Wednesdays. We will now announce these evenings in advance on the Events page. \nBBQ Adults € 25\,00 PP\nBBQ Kids 5 till 12 years € 12\,50 PP \nUntil August 11 14:00 you can make a reservation! Reservation via telephone number: +31 6 150 34 190 \nFRENCH \nJeudi 11 août Soirée barbecue ! \nC’est de nouveau le moment ! Le Camping Resort Bousset organise régulièrement des soirées Barbecue. Gardez donc un œil sur la page des événements ! \nAuparavant\, ces soirées avaient lieu les lundis et mercredis. Nous annoncerons désormais ces soirées à l’avance sur la page des événements. \nBBQ Adultes € 25\,00 PP\nBBQ Kids 5 à 12 ans € 12\,50 PP \nVous pouvez faire une réservation jusqu’au 11 août 14h00! Réservation par téléphone : +31 6 150 34 190 \nDEUTCH \nDonnerstag\, 11. August: Grillabend! \nEs ist wieder so weit! Das Camping Resort Bousset organisiert regelmäßig Barbecue-Abende. Behalten Sie also die Eventseite im Auge! \nZuvor fanden diese Abende montags und mittwochs statt. Wir werden diese Abende nun im Voraus auf der Seite Events ankündigen. \nBBQ Erwachsene € 25\,00 PP\nBBQ Kinder 4 bis 10 Jahre € 12\,50 PP \nBis zum 11. August 14:00 Uhr können Sie eine Reservierung vornehmen! Reservierung unter der Telefonnummer: +31 6 150 34 190
URL:https://www.resortbousset.com/event/barbeque/
LOCATION:Restaurant Bousset\, Chemin de Bousset 12\, Chiddes\, 58170\, France
CATEGORIES:BBQ
ATTACH;FMTTYPE=image/jpeg:https://www.resortbousset.com/wp-content/uploads/2022/05/BBQ-Resort-Bousset.jpg
END:VEVENT
END:VCALENDAR